BEGIN:VCALENDAR
VERSION:2.0
PRODID:-//XIT AUCTIONS - ECPv6.15.14//NONSGML v1.0//EN
CALSCALE:GREGORIAN
METHOD:PUBLISH
X-ORIGINAL-URL:https://xitauctions.com
X-WR-CALDESC:Events for XIT AUCTIONS
REFRESH-INTERVAL;VALUE=DURATION:PT1H
X-Robots-Tag:noindex
X-PUBLISHED-TTL:PT1H
BEGIN:VTIMEZONE
TZID:America/Chicago
BEGIN:DAYLIGHT
TZOFFSETFROM:-0600
TZOFFSETTO:-0500
TZNAME:CDT
DTSTART:20250309T080000
END:DAYLIGHT
BEGIN:STANDARD
TZOFFSETFROM:-0500
TZOFFSETTO:-0600
TZNAME:CST
DTSTART:20251102T070000
END:STANDARD
BEGIN:DAYLIGHT
TZOFFSETFROM:-0600
TZOFFSETTO:-0500
TZNAME:CDT
DTSTART:20260308T080000
END:DAYLIGHT
BEGIN:STANDARD
TZOFFSETFROM:-0500
TZOFFSETTO:-0600
TZNAME:CST
DTSTART:20261101T070000
END:STANDARD
BEGIN:DAYLIGHT
TZOFFSETFROM:-0600
TZOFFSETTO:-0500
TZNAME:CDT
DTSTART:20270314T080000
END:DAYLIGHT
BEGIN:STANDARD
TZOFFSETFROM:-0500
TZOFFSETTO:-0600
TZNAME:CST
DTSTART:20271107T070000
END:STANDARD
BEGIN:DAYLIGHT
TZOFFSETFROM:-0600
TZOFFSETTO:-0500
TZNAME:CDT
DTSTART:20280312T080000
END:DAYLIGHT
BEGIN:STANDARD
TZOFFSETFROM:-0500
TZOFFSETTO:-0600
TZNAME:CST
DTSTART:20281105T070000
END:STANDARD
BEGIN:DAYLIGHT
TZOFFSETFROM:-0600
TZOFFSETTO:-0500
TZNAME:CDT
DTSTART:20290311T080000
END:DAYLIGHT
BEGIN:STANDARD
TZOFFSETFROM:-0500
TZOFFSETTO:-0600
TZNAME:CST
DTSTART:20291104T070000
END:STANDARD
BEGIN:DAYLIGHT
TZOFFSETFROM:-0600
TZOFFSETTO:-0500
TZNAME:CDT
DTSTART:20300310T080000
END:DAYLIGHT
BEGIN:STANDARD
TZOFFSETFROM:-0500
TZOFFSETTO:-0600
TZNAME:CST
DTSTART:20301103T070000
END:STANDARD
BEGIN:DAYLIGHT
TZOFFSETFROM:-0600
TZOFFSETTO:-0500
TZNAME:CDT
DTSTART:20310309T080000
END:DAYLIGHT
BEGIN:STANDARD
TZOFFSETFROM:-0500
TZOFFSETTO:-0600
TZNAME:CST
DTSTART:20311102T070000
END:STANDARD
END:VTIMEZONE
BEGIN:VEVENT
DTSTART;VALUE=DATE:20260515
DTEND;VALUE=DATE:20260516
DTSTAMP:20260423T072458
CREATED:20260414T162325Z
LAST-MODIFIED:20260422T005753Z
UID:8222-1778803200-1778889599@xitauctions.com
SUMMARY:KIOWA & WASHITA CO. LAND AUCTION
DESCRIPTION:AUCTION STARTS AT 1PM\nAuction Conduted at Western Technology (WTC) Hobart\, OK\nSelling 320 ac of Washita and Kiowa County Real Estate \nSELLING 4 TRACTS: \nTract 1) SW/4 of 2-7N-17W Kiowa Co. Okla. 160 Acres mol\nTract 2) N/2 N/2 NE/4 of 4-7N-17W Kiowa Co. Okla. 80 Acres mol\nTract 3) SW/4 SW/4 of 34-8N-17W Washita Co. Okla. 40 Acres mol\nTract 4) NW/4 NW/4 of 3-7N-17W Kiowa Co. Okla. 40 Acres mol
URL:https://xitauctions.com/auction/kiowa-washita-co-land-auction/
ATTACH;FMTTYPE=image/jpeg:https://xitauctions.com/wp-content/uploads/2026/04/hazelette-flyer.jpg
END:VEVENT
BEGIN:VEVENT
DTSTART;VALUE=DATE:20300101
DTEND;VALUE=DATE:20300102
DTSTAMP:20260423T072458
CREATED:20250916T133627Z
LAST-MODIFIED:20250918T213622Z
UID:7492-1893456000-1893542399@xitauctions.com
SUMMARY:PAST AUCTIONS on PROXIBID
DESCRIPTION:
URL:https://xitauctions.com/auction/proxibid-links-from-past-sales/
ATTACH;FMTTYPE=image/jpeg:https://xitauctions.com/wp-content/uploads/2025/09/PAST-AUCTIONS.jpg
END:VEVENT
BEGIN:VEVENT
DTSTART;VALUE=DATE:20300101
DTEND;VALUE=DATE:20300102
DTSTAMP:20260423T072458
CREATED:20260213T164100Z
LAST-MODIFIED:20260216T145839Z
UID:7957-1893456000-1893542399@xitauctions.com
SUMMARY:COMING SOON! SHAMROCK LIVESTOCK EXCHANGE!
DESCRIPTION:
URL:https://xitauctions.com/auction/coming-soon-shamrock-livestock-exchange/
ATTACH;FMTTYPE=image/jpeg:https://xitauctions.com/wp-content/uploads/2026/02/Shamrock-Livestock-Exchange-ad-2.jpg
END:VEVENT
END:VCALENDAR