BEGIN:VCALENDAR
VERSION:2.0
PRODID:-//XIT AUCTIONS - ECPv6.15.14//NONSGML v1.0//EN
CALSCALE:GREGORIAN
METHOD:PUBLISH
X-ORIGINAL-URL:https://xitauctions.com
X-WR-CALDESC:Events for XIT AUCTIONS
REFRESH-INTERVAL;VALUE=DURATION:PT1H
X-Robots-Tag:noindex
X-PUBLISHED-TTL:PT1H
BEGIN:VTIMEZONE
TZID:America/Chicago
BEGIN:DAYLIGHT
TZOFFSETFROM:-0600
TZOFFSETTO:-0500
TZNAME:CDT
DTSTART:20230312T080000
END:DAYLIGHT
BEGIN:STANDARD
TZOFFSETFROM:-0500
TZOFFSETTO:-0600
TZNAME:CST
DTSTART:20231105T070000
END:STANDARD
BEGIN:DAYLIGHT
TZOFFSETFROM:-0600
TZOFFSETTO:-0500
TZNAME:CDT
DTSTART:20240310T080000
END:DAYLIGHT
BEGIN:STANDARD
TZOFFSETFROM:-0500
TZOFFSETTO:-0600
TZNAME:CST
DTSTART:20241103T070000
END:STANDARD
BEGIN:DAYLIGHT
TZOFFSETFROM:-0600
TZOFFSETTO:-0500
TZNAME:CDT
DTSTART:20250309T080000
END:DAYLIGHT
BEGIN:STANDARD
TZOFFSETFROM:-0500
TZOFFSETTO:-0600
TZNAME:CST
DTSTART:20251102T070000
END:STANDARD
BEGIN:DAYLIGHT
TZOFFSETFROM:-0600
TZOFFSETTO:-0500
TZNAME:CDT
DTSTART:20260308T080000
END:DAYLIGHT
BEGIN:STANDARD
TZOFFSETFROM:-0500
TZOFFSETTO:-0600
TZNAME:CST
DTSTART:20261101T070000
END:STANDARD
BEGIN:DAYLIGHT
TZOFFSETFROM:-0600
TZOFFSETTO:-0500
TZNAME:CDT
DTSTART:20270314T080000
END:DAYLIGHT
BEGIN:STANDARD
TZOFFSETFROM:-0500
TZOFFSETTO:-0600
TZNAME:CST
DTSTART:20271107T070000
END:STANDARD
END:VTIMEZONE
BEGIN:VEVENT
DTSTART;VALUE=DATE:20260418
DTEND;VALUE=DATE:20260419
DTSTAMP:20260423T085810
CREATED:20260306T223916Z
LAST-MODIFIED:20260311T125333Z
UID:8014-1776470400-1776556799@xitauctions.com
SUMMARY:CHARLIE HAHN RETIREMENT AUCTION
DESCRIPTION:AUCTION STARTS AT 10AM \nSELLER: Charlie Hahn\nMangum\, OK – Hwy 283 & 1740 (Sonic Drive-In) go west on 1740 2.5 miles. Watch for signs. \nSelling 28 acres mol\, Barn\, Pens\, Rural Water\, Elect. And More.\nBeautiful overlook. Contact Aubrey Latham\, Auctioneer 580-393-4440\nReal Estate Sells at 10:30AM after guns. \nSale order: Guns\, Real Estate\, Farm Equipment and Vehicles \nDetails\, pictures and gun list coming…….
URL:https://xitauctions.com/auction/charlie-hahn-retirement-auctionx/
CATEGORIES:Farm Equipment,Heavy Equipment,Real Estate
ATTACH;FMTTYPE=image/jpeg:https://xitauctions.com/wp-content/uploads/2026/03/XIT-Auctions-Flyer-041826.jpg
END:VEVENT
BEGIN:VEVENT
DTSTART;VALUE=DATE:20260404
DTEND;VALUE=DATE:20260405
DTSTAMP:20260423T085810
CREATED:20251116T163205Z
LAST-MODIFIED:20260313T122527Z
UID:7721-1775260800-1775347199@xitauctions.com
SUMMARY:KIOWA COUNTY FARMERS & RANCHERS AUCTIONView Auction on Proxibid
DESCRIPTION:AUCTION STARTS AT 10AM \nAuction conducted on the Gin yard in Lone Wolf\, OK \nCALL TO CONSIGN EARLY!!!!
URL:https://xitauctions.com/auction/kiowa-county-farmers-ranchers-auction-6/
CATEGORIES:Farm Equipment
ATTACH;FMTTYPE=image/jpeg:https://xitauctions.com/wp-content/uploads/2026/01/XIT-Auction-Template-Consignment-4-1.jpg
END:VEVENT
BEGIN:VEVENT
DTSTART;VALUE=DATE:20251229
DTEND;VALUE=DATE:20251230
DTSTAMP:20260423T085810
CREATED:20251201T165947Z
LAST-MODIFIED:20251222T143948Z
UID:7728-1766966400-1767052799@xitauctions.com
SUMMARY:REAL ESTATE AUCTION
DESCRIPTION:AUCTION STARTS AT 1PM \nSELLER: Jerry L. Bohanon \n21+/- ACRES \nSurface and Surface only \nLocated on West edge of Canute on Old Rt. 66 Hwy.\nDIRECTIONS: Canute\, OK – (4 way stop) 9th St. & Rt. 66\, Go 1 mile west on Route 66. Watch For Signs. \nAuction conducted at property.
URL:https://xitauctions.com/auction/real-estate-auction-8/
CATEGORIES:Real Estate
ATTACH;FMTTYPE=image/jpeg:https://xitauctions.com/wp-content/uploads/2025/12/xit-RE-Auction-122925-1.jpg
END:VEVENT
BEGIN:VEVENT
DTSTART;VALUE=DATE:20251122
DTEND;VALUE=DATE:20251201
DTSTAMP:20260423T085810
CREATED:20250620T170845Z
LAST-MODIFIED:20251201T170149Z
UID:7278-1763769600-1764547199@xitauctions.com
SUMMARY:Statehood Home & Sunfinch Greenhouses ON 5 ACRES +/- View Auction on Proxibid
DESCRIPTION:Statehood Home & Sunfinch Greenhouses \n2 miles East of Rocky\, OK on Hwy. 55 \nSELLERS: Keith & Dianna Griffith \n1662sf Farmhouse\, high ceilings\, lots of storage\, 2 covered porches\, covered entry\, mud room\, large living area\, large dining w/ built-in bookcase\, 2 large bedrooms\, 1 smaller bedroom\, 2 full baths\, utility room\, large kitchen w/island\, custom built cabinets\, lots of storage\, large walk-in pantry. \nPLUS… \n13.2 KW solar system\, well water and rural water\, above ground storm shelter/solar house\, 60’x60’ metal barn\, 17’x96’ Russ Finch type geothermal pit greenhouse with hydroponic system\, 30×96 high tunnel with roll-up sides\, insect net\, exhaust fan\, drip irrigation system\, (1) 13’x110’ caterpillar tunnel w/raised beds\, (2) 13’X110’ caterpillar tunnels\, (1) 13’x72’ caterpillar tunnel\, 50’x65’ fenced garden\, 24’x42’ metal chicken house suitable or other small animals as well\, 2 fenced pastures suitable for all livestock with water access\, pastured chicken setup w/ coop\, nesting boxes\, 10’x48’ wash and pack house\, walk-in cooler\, microgreens set-up with sinks-spinner-drying rack\, fish pond in yard\, compost bins\, RV hook-up. \nEasy access on paved highway\, internet access established wind break\, Austrian Pine assorted truit trees and bushes
URL:https://xitauctions.com/auction/for-sale-washita-co-statehood-home-on-5-acres/
CATEGORIES:Real Estate
ATTACH;FMTTYPE=image/jpeg:https://xitauctions.com/wp-content/uploads/2025/06/16.jpg
END:VEVENT
BEGIN:VEVENT
DTSTART;VALUE=DATE:20251115
DTEND;VALUE=DATE:20251116
DTSTAMP:20260423T085810
CREATED:20251008T152756Z
LAST-MODIFIED:20251008T183853Z
UID:7598-1763164800-1763251199@xitauctions.com
SUMMARY:REAL ESTATE AUCTION - HOLLIS\, OK
DESCRIPTION:AUCTION STARTS AT 10:30M \n123 E. Vivian\, Hollis\, Oklahoma –  3 bedroom\, 1 1/2 bath home with lots.\nLEGAL: 34-3-26 – Harmon County\, Oklahoma \nSELLER: Shelby Trust \nHousehold items\, furniture\, 2009 Chevy pickup\, 2016 Chevy Equinox SUV\, tools and much more! \nSurface and surface only. \nTerms: 10% Down Day of Auction with Baileys Title and Closing Altus\, OK. Balance in 30 Days or Before. Property sold “As Is”. \nShown by appt. only. Call Aubrey Latham 580-393-4440
URL:https://xitauctions.com/auction/real-estate-auction-hollis-ok/
CATEGORIES:Real Estate
ATTACH;FMTTYPE=image/jpeg:https://xitauctions.com/wp-content/uploads/2025/10/IMG_7808X.jpg
END:VEVENT
BEGIN:VEVENT
DTSTART;VALUE=DATE:20251108
DTEND;VALUE=DATE:20251109
DTSTAMP:20260423T085810
CREATED:20251003T143006Z
LAST-MODIFIED:20251027T133737Z
UID:7525-1762560000-1762646399@xitauctions.com
SUMMARY:PUBLIC AUCTION  View Auction on Proxibid
DESCRIPTION:AUCTION STARTS 10AM\nSELLING FARM EQUIPMENT\, TRAILERS\, HOUSEHOLD\, FURNITURE and MUCH MORE!!\n5 miles north of Ford Dealership in Elk City\, OK on 2010 Rd. \nSELLERS: Mr. and Mrs. Randy Londagin\nThe Londagins have sold their home and are moving. \n 
URL:https://xitauctions.com/auction/public-auction-5/
CATEGORIES:Farm Equipment
ATTACH;FMTTYPE=image/jpeg:https://xitauctions.com/wp-content/uploads/2025/10/1.jpg
END:VEVENT
BEGIN:VEVENT
DTSTART;VALUE=DATE:20251004
DTEND;VALUE=DATE:20251005
DTSTAMP:20260423T085810
CREATED:20250814T144327Z
LAST-MODIFIED:20251003T143418Z
UID:7338-1759536000-1759622399@xitauctions.com
SUMMARY:FARM EQUIPMENT AUCTION View Auction on Proxibid  View Auction Photos & Details  See ad in "The New Enterpriser". Pick up a copy today. Follow us on Facebook.
DESCRIPTION:AUCTION STARTS 10AM \nSELLER: Mr. Carl Bogart \nMr. Bogart has sold his farm and will sell his Equipment at Public Auction! \nDIRECTIONS: 15 miles West of Mangum\, OK on Hwy. 9. \nOR from Hwy 30 and Hwy 9 Juction\, 8 miles east on Hwy 9. \nOR From Wellington Texas\, 26 Miles East. \n(Loading and Lunch Day of Auction)
URL:https://xitauctions.com/auction/farm-equipment-auction-10/
CATEGORIES:Farm Equipment
ATTACH;FMTTYPE=image/jpeg:https://xitauctions.com/wp-content/uploads/2025/08/1.jpg
END:VEVENT
BEGIN:VEVENT
DTSTART;VALUE=DATE:20250906
DTEND;VALUE=DATE:20250907
DTSTAMP:20260423T085810
CREATED:20250814T180651Z
LAST-MODIFIED:20250815T131941Z
UID:7360-1757116800-1757203199@xitauctions.com
SUMMARY:HILL RETIREMENT AUCTION View Auction on Proxibid  View Auction Photos & Details  See ad in "The New Enterpriser". Pick up a copy today. Follow us on Facebook.
DESCRIPTION:AUCTION STARTS AT 10AM \nSELLERS: Mr. & Mrs. Clyde Hill \nELDORADO SUPPLY – After 49 years in business\, Mr. & Mrs. Clyde Hill are retiring!! Thank you to everyone for your continued support over the years! All contents of store and much more will be auctioned off. \nView Auction on Proxibid \nView Auction Photos & Details \nSee ad in “The New Enterpriser”. Pick up a copy today. Follow us on Facebook. \n \n 
URL:https://xitauctions.com/auction/hill-retirement-auction/
ATTACH;FMTTYPE=image/jpeg:https://xitauctions.com/wp-content/uploads/2025/04/IMG_6780.jpg
END:VEVENT
BEGIN:VEVENT
DTSTART;VALUE=DATE:20250719
DTEND;VALUE=DATE:20250720
DTSTAMP:20260423T085810
CREATED:20250520T221548Z
LAST-MODIFIED:20250529T150210Z
UID:7234-1752883200-1752969599@xitauctions.com
SUMMARY:MORE AUCTIONS COMING SOON!
DESCRIPTION:
URL:https://xitauctions.com/auction/7234/
END:VEVENT
BEGIN:VEVENT
DTSTART;TZID=America/Chicago:20250715T130500
DTEND;TZID=America/Chicago:20250715T133000
DTSTAMP:20260423T085810
CREATED:20250529T150139Z
LAST-MODIFIED:20250627T184857Z
UID:7240-1752584700-1752586200@xitauctions.com
SUMMARY:REAL ESTATE AUCTION-Click for details
DESCRIPTION:AUCTION STARTS AT 1:05PM \nSELLER: ALL AMERICA BANK \nAuction conducted at Sentinel Activity Center (1 mile East of Sentinel). Lunch at 12:30\, Auction at 1:00. \n101 S. 5th St\, Sentinel\, Oklahoma\, 73664 (2 blocks East of 4-way stop\nDowntown Sentinel)\nand 423 S. 3rd St.\, Sentinel\, OK 73664 (4 blocks South on Hwy 44\nof Downtown Sentinel) \n  \nTERMS: Properties sold in “as is\, where is” condition with all faults. 10% Down Day of Auction with Baileys Title and Closing – balance on or before 30 Days. Seller will furnish abstract. This is A Cash Sale. No Terms for Financing or The Value of an Appraisal. \nShown by appointment only. \nContact Aubrey 580-393-4440
URL:https://xitauctions.com/auction/real-estate-auction-7/
CATEGORIES:Real Estate
ATTACH;FMTTYPE=image/jpeg:https://xitauctions.com/wp-content/uploads/2025/06/july-15.jpg
END:VEVENT
BEGIN:VEVENT
DTSTART;TZID=America/Chicago:20250715T130000
DTEND;TZID=America/Chicago:20250715T133000
DTSTAMP:20260423T085810
CREATED:20250607T144155Z
LAST-MODIFIED:20250610T153427Z
UID:7263-1752584400-1752586200@xitauctions.com
SUMMARY:WASHITA COUNTY LAND AUCTION - 200 ACRES +/-
DESCRIPTION:AUCTION STARTS AT 1PM \nSELLER: Seybold Trust \nAuction conducted at Sentinel Activity Center (1 mile East of Sentinel). Lunch at 12:30\, Auction at 1:00. \n2 TRACTS: \nTract 1: 120 acres (+/-) Legal: N ½ of the NW/4 and the SW/4 of the NW/4 in 24-9N-19W Washita County\, Oklahoma. Located 6 Miles North of Sentinel\, Okla on Hwy 44 – Corner of 1220 and Hwy 44. (East Side of Hwy 44) \nTract 2: 80 acres (+/-) Legal: N ½ of the NE/4 of Sec 26-9N-19\, Washita County\, Oklahoma. Located 5 Miles North of Sentinel on Hwy. 44 – Corner of 1230 and Hwy 44 (West Side) \nContact Aubrey 580-393-4440
URL:https://xitauctions.com/auction/7263/
CATEGORIES:Real Estate
ATTACH;FMTTYPE=image/jpeg:https://xitauctions.com/wp-content/uploads/2025/06/tract-1-2-with-legal-1.jpg
END:VEVENT
BEGIN:VEVENT
DTSTART;VALUE=DATE:20250412
DTEND;VALUE=DATE:20250413
DTSTAMP:20260423T085810
CREATED:20241220T021655Z
LAST-MODIFIED:20250404T003842Z
UID:6766-1744416000-1744502399@xitauctions.com
SUMMARY:KIOWA COUNTY FARMERS & RANCHERS AUCTION - Bid now at PROXIBID.com
DESCRIPTION:Auction Starts at 10AM \nGin Yard\, Lone Wolf\, OK \nView Auction on Proxibid
URL:https://xitauctions.com/auction/kiowa-county-farmers-ranchers-auction-5/
CATEGORIES:Farm Equipment,Heavy Equipment
ATTACH;FMTTYPE=image/jpeg:https://xitauctions.com/wp-content/uploads/2024/12/IMG_5948-copy.jpg
END:VEVENT
BEGIN:VEVENT
DTSTART;VALUE=DATE:20250409
DTEND;VALUE=DATE:20250410
DTSTAMP:20260423T085810
CREATED:20250303T162840Z
LAST-MODIFIED:20250331T153901Z
UID:6923-1744156800-1744243199@xitauctions.com
SUMMARY:CHILDRESS COUNTY\, TEXAS REAL ESTATE AUCTON - Bid now at PROXIBID.com
DESCRIPTION:AUCTION STARTS AT 1PM \n521+/- Acres CHILDRESS COUNTY\, TEXAS LAND \nAuction Conducted at the M.L. Lewis Expo Center\, 2nd & Chestnut\, Hollis\, OK \nSelling Surface and Surface Only – The real property legally described as: 1279 & 2606 BLK HW & NW\, Childress County\, Texas\, consisting of 521 acres MOL\, together with all buildings\, improvements and fixtures constructed or located on the Land (Buildings) and all easements and rights benefiting or appurtenant to the Land (collectively the Real Property). \nDIRECTIONS TO PROPERTY: From Childress\, Texas on HWY 287\, take FM2530 South 4 miles. The property is located West of the solar farm. Watch for signs. \ngo to PROXIBID: – https://www.proxibid.com/Xit-Auctions-LLC/HARMON-COUNTY-REAL-ESTATE-AUCTION/event-catalog/274132
URL:https://xitauctions.com/auction/childress-county-texas-real-estate-aucton/
CATEGORIES:Real Estate
ATTACH;FMTTYPE=image/jpeg:https://xitauctions.com/wp-content/uploads/2025/03/childress-co.-map-revised-2.jpg
END:VEVENT
BEGIN:VEVENT
DTSTART;VALUE=DATE:20250409
DTEND;VALUE=DATE:20250410
DTSTAMP:20260423T085810
CREATED:20250121T180518Z
LAST-MODIFIED:20250331T153924Z
UID:6824-1744156800-1744243199@xitauctions.com
SUMMARY:HARMON COUNTY REAL ESTATE AUCTION - Bid now at PROXIBID.com
DESCRIPTION:AUCTION STARTS AT 1PM\n560 acres +/- Good Harmon County Land\n\nDirections: From Hollis\, Okla go 8 miles north on Hwy 30 to CR 1520 . Properties are on East Side of Hwy 30. Same being 6 Miles South of Junction Hwy 9 and 30 Junction. \n\nAuction Conducted at the M.L. Lewis Expo Center\, 2nd & Chestnut\, Hollis\, OK\n\nLegal: (Lot 1) Tract 1- S/2 of 14-4N-26W\, 320 Acres mol.; \n(Lot 2) Tract 2- NE/4 of14-4N-26W\, 160 Acres mol\,; \n(Lot 3) Combination of 1 & 2 \n(Lot 4) Tract 3- N/2 of NW/4 of 23-4N-26W\, 80 Acres mol. \nAll in Harmon County\, Oklahoma. \n  \n– All in Harmon County\, Oklahoma. \n\nSELLER: Charles C. Carter\, MD\nCarter Ranch and Farms\, LLC \n 
URL:https://xitauctions.com/auction/harmon-county-real-estate-auction-2/
CATEGORIES:Real Estate
ATTACH;FMTTYPE=image/jpeg:https://xitauctions.com/wp-content/uploads/2025/01/Carter-map-final.jpg
END:VEVENT
BEGIN:VEVENT
DTSTART;VALUE=DATE:20250322
DTEND;VALUE=DATE:20250323
DTSTAMP:20260423T085810
CREATED:20241220T021511Z
LAST-MODIFIED:20250320T031702Z
UID:6763-1742601600-1742687999@xitauctions.com
SUMMARY:FERGASON RETIREMENT AUCTION
DESCRIPTION:AUCTION STARTS AT 10AM \nGuns will sell first at 10AM\, then PROXIBID equipment will start at 10:45AM. \nCuster City\, OK \nTrucks\, Pickups\, Dozer\, Grader\, Guns and More! \nInspection week before the Auction. \nView Auction on Proxibid
URL:https://xitauctions.com/auction/retirement-auction/
CATEGORIES:Farm Equipment,Heavy Equipment
ATTACH;FMTTYPE=image/jpeg:https://xitauctions.com/wp-content/uploads/2024/12/1.jpg
END:VEVENT
BEGIN:VEVENT
DTSTART;VALUE=DATE:20250301
DTEND;VALUE=DATE:20250302
DTSTAMP:20260423T085810
CREATED:20250123T210013Z
LAST-MODIFIED:20250217T134257Z
UID:6841-1740787200-1740873599@xitauctions.com
SUMMARY:HYMAN ESTATE PUBLIC AUCTION
DESCRIPTION:AUCTION STARTS AT 10AM\n502 W. 20th\, Elk City\, OK – Located 1/8 Mile W. of McDonald’s\nModular with 3-car Garage on approx. 1/2 Acre & Personal Property \nNO BUYER’S PREMIUM \n  \nSELLERS: Hyman Estate
URL:https://xitauctions.com/auction/public-auction-4/
CATEGORIES:Real Estate
ATTACH;FMTTYPE=image/jpeg:https://xitauctions.com/wp-content/uploads/2025/01/IMG_5457.jpg
END:VEVENT
BEGIN:VEVENT
DTSTART;VALUE=DATE:20250114
DTEND;VALUE=DATE:20250115
DTSTAMP:20260423T085810
CREATED:20240528T140909Z
LAST-MODIFIED:20250109T142719Z
UID:6349-1736812800-1736899199@xitauctions.com
SUMMARY:KIOWA COUNTY REAL ESTATE AUCTION
DESCRIPTION:Auction starts at 1PM\n320+/- Acres — 220+/- Acres Good Cropland; 100+/- Acres Pasture\n\nSellers: Mr. And Mrs. Tom Smith\n\nSelling Surface and Surface Only.\n\nLEGAL: S/2 of Sec. 3\, T5N\, R19W Kiowa County\, Oklahoma\n\nDirections: From Hobart\, OK\,  go West on Hwy 9 for 5 Miles to CR2130 (Old Blinking Light Hwy 44 Junction) Then South 5 Miles on CR2130. Watch for Signs.\n\nAuction Conducted at the Western Technology Center in Hobart.
URL:https://xitauctions.com/auction/6349/
CATEGORIES:Real Estate
ATTACH;FMTTYPE=image/jpeg:https://xitauctions.com/wp-content/uploads/2024/05/View-recent-photos.jpeg
END:VEVENT
BEGIN:VEVENT
DTSTART;VALUE=DATE:20241016
DTEND;VALUE=DATE:20241017
DTSTAMP:20260423T085810
CREATED:20240918T124947Z
LAST-MODIFIED:20241001T163045Z
UID:6672-1729036800-1729123199@xitauctions.com
SUMMARY:GREER COUNTY REAL ESTATE AUCTION
DESCRIPTION:AUCTION STARTS at 1PM \nSELLING 335+/- Acres – Brinkman Area \nSELLING IN 3 TRACTS \nNEARLY NEW STEEL FENCES!\nRURAL WATER!\nNICE PROPERTY! \nT1 – NE/4 of 8-6-22 Greer Co.Okla.\n\nT2 – NW/4 of 9-6-23 Greer Co. Okla.\n\nT3 – 12 Acre Parcel of SE/4 of NE/4 in 8-6-23 Greer Co. Okla.\n  \nDIRECTIONS TO PROPERTY: \nT1– From Mangum\, Okla. go North on Hwy. 283 to CR 1380\, Then West 2 Miles\, property is on South Side of Road. Watch for Signs\n\n\nT2- From Mangum\, Okla. go North on Hwy 283 to CR 1390. Then West 8 Miles to CR 1870 Then 1/2 Mile North.\n\nT3- Across Road from T2\nAuction Conducted at Great Plains Bank\n101 S. Oklahoma Ave.\, Mangum\, OK
URL:https://xitauctions.com/auction/greer-county-real-estate-auction-8/
CATEGORIES:Real Estate
ATTACH;FMTTYPE=image/jpeg:https://xitauctions.com/wp-content/uploads/2024/09/3-Tracts-2.jpg
END:VEVENT
BEGIN:VEVENT
DTSTART;VALUE=DATE:20241015
DTEND;VALUE=DATE:20241016
DTSTAMP:20260423T085810
CREATED:20240822T205618Z
LAST-MODIFIED:20240910T152641Z
UID:6607-1728950400-1729036799@xitauctions.com
SUMMARY:WASHITA COUNTY MINERAL AUCTION
DESCRIPTION:AUCTION STARTS AT 1PM \nSELLER: Ellis Family \nMINERALS: 12.50 Net mineral acres in SE/4 of 17-10N-18W Washita Co.\, Okla
URL:https://xitauctions.com/auction/washita-county-mineral-auction/
CATEGORIES:Real Estate
ATTACH;FMTTYPE=image/jpeg:https://xitauctions.com/wp-content/uploads/2024/08/mineral-auction-logo.jpg
END:VEVENT
BEGIN:VEVENT
DTSTART;VALUE=DATE:20240914
DTEND;VALUE=DATE:20240915
DTSTAMP:20260423T085810
CREATED:20240605T183903Z
LAST-MODIFIED:20240912T173939Z
UID:6360-1726272000-1726358399@xitauctions.com
SUMMARY:FIREARMS AUCTION
DESCRIPTION:AUCTION STARTS 10AM \nInspection day of auction 8:30AM \nElk City\, OK \nLarge selection of Firearms \nHandguns – Oklahoma Residents Only! \nBob Downs Retirement Auction
URL:https://xitauctions.com/auction/firearms-auction/
CATEGORIES:Farm Equipment,Heavy Equipment
ATTACH;FMTTYPE=image/jpeg:https://xitauctions.com/wp-content/uploads/2024/06/XIT-Auctions-Flyer-Firearms.jpg
END:VEVENT
BEGIN:VEVENT
DTSTART;VALUE=DATE:20240907
DTEND;VALUE=DATE:20240908
DTSTAMP:20260423T085810
CREATED:20240511T013013Z
LAST-MODIFIED:20240905T152701Z
UID:6282-1725667200-1725753599@xitauctions.com
SUMMARY:FARM EQUIPMENT AUCTION
DESCRIPTION:Mr. Bob Downs Retirement Auction\nVinson\, Oklahoma\nSelling 15 Tractors\, Trucks\, Trailers\, Shop Tools and Much More!! \nDirections: From: Hwy 30 & Hwy 9 Junction North of Hollis\, OK\, Go North 4 Miles to Carl Road (1420)\, then West 3 Miles to Opal Road (1680)\, then South 1 Mile to Site. (Hard Roads) Watch for Signs.\nOr From Erick\, OK: Go South on Hwy 30 Approx. 22 Miles to Carl Road. (1420)\, then West 3 Miles to Opal Road (1680)\, then South 1 Mile to Site. (Hard Roads) Watch for Signs.\nPayment: Cash\, Good Check with Proper ID…. No Plastic\nLive & Onsite Auction. Bidding Available thru Proxibid.com \nBob Downs Retirement
URL:https://xitauctions.com/auction/public-auction-3/
CATEGORIES:Farm Equipment,Heavy Equipment
ATTACH;FMTTYPE=image/jpeg:https://xitauctions.com/wp-content/uploads/2024/05/IMG_1686.jpg
END:VEVENT
BEGIN:VEVENT
DTSTART;VALUE=DATE:20240829
DTEND;VALUE=DATE:20240830
DTSTAMP:20260423T085810
CREATED:20240806T145807Z
LAST-MODIFIED:20240824T014027Z
UID:6570-1724889600-1724975999@xitauctions.com
SUMMARY:REAL ESTATE "COURT ACTION" AUCTION
DESCRIPTION:AUCTION STARTS AT 1PM\nAuction conducted at Washita Co. Court House\, Rotunda Area\, First Floor\nJerry Duke Estate\nProperty located at 1302 N. Dena\, Cordell\, OK – Vacant lot \nLEGAL: Cordell\, C.C. BLK L CONT 1.21 ACRES\nCase# PB-2023-35\, Washita County District Court\nSale must be confirmed by court.
URL:https://xitauctions.com/auction/real-estate-court-action-auction/
CATEGORIES:Real Estate
ATTACH;FMTTYPE=image/jpeg:https://xitauctions.com/wp-content/uploads/2024/08/Cordell-property.jpg
END:VEVENT
BEGIN:VEVENT
DTSTART;VALUE=DATE:20240806
DTEND;VALUE=DATE:20240807
DTSTAMP:20260423T085810
CREATED:20240617T192157Z
LAST-MODIFIED:20240718T150308Z
UID:6371-1722902400-1722988799@xitauctions.com
SUMMARY:PUBLIC AUCTION - PROPERTIES IN CITY OF GRANITE
DESCRIPTION:AUCTION STARTS 1PM \nGranite Senior Center \nShown by appt. \nSee ad in “The New Enterpriser”. Pick up a copy today. Follow us on Facebook. \n  \n 
URL:https://xitauctions.com/auction/public-auction-properties-in-city-of-granite/
CATEGORIES:Real Estate
ATTACH;FMTTYPE=image/jpeg:https://xitauctions.com/wp-content/uploads/2024/06/city-of-granite-2.jpg
END:VEVENT
BEGIN:VEVENT
DTSTART;VALUE=DATE:20240803
DTEND;VALUE=DATE:20240804
DTSTAMP:20260423T085810
CREATED:20240619T151222Z
LAST-MODIFIED:20240802T142809Z
UID:6381-1722643200-1722729599@xitauctions.com
SUMMARY:KENNETH DRIVER WELDING RETIREMENT AUCTION
DESCRIPTION:AUCTION STARTS AT 9AM \nREAL ESTATE SELLS 11:30AM \nPROXIBID ITEMS START AT 11:45AM \nSELLER: Kenneth Driver \nWelders\, Truck\, Tractor\, Shop Equipment of ALL KINDS !!!\nShop Tools and Equipment Auction \nReal Estate Sells at 11:30 Central Time\nBuilding 72×54 METAL Building\, Full Concrete Floor\, Office\, Restroom\, 2 Large Entry Doors\, Small Door Access\, PLUS 3 phase Electric (CK Energy) Septic\, Full Gravel Lot\, 1 Acre Lot.\nLocated 2 Miles North of Clinton\, Oklahoma on Hwy 183 (Directly Across Road from Western Equipment) \nLive auction starts at 9:00 AM Central Time\, Proxibid items start at 11:45 AM
URL:https://xitauctions.com/auction/driver-retirement-auction/
ATTACH;FMTTYPE=image/jpeg:https://xitauctions.com/wp-content/uploads/2024/06/IMG_2577.jpg
END:VEVENT
BEGIN:VEVENT
DTSTART;VALUE=DATE:20240723
DTEND;VALUE=DATE:20240724
DTSTAMP:20260423T085810
CREATED:20240629T191122Z
LAST-MODIFIED:20240718T150044Z
UID:6480-1721692800-1721779199@xitauctions.com
SUMMARY:WASHITA COUNTY REAL ESTATE AUCTION
DESCRIPTION:AUCTION STARTS AT 1PM \nSELLERS: Martha Castellana\, Trustee \nProperty located at Corners of E1260 Rd & N2220 Rd – Southeast Corner of Property. Go South of Cordell\, Okla. On Hwy 183 to E1260 Rd. Then West ½ Mile North Side Road. Watch for Signs. Across from Lone Star Cemetery. \nLegal: SE/4 of Sec. 2-8N-18W Washita Co. Okla. Surface Only\nSale conducted at the Sentinel Activity Center\, Just East of Sentinel on Hwy. 55
URL:https://xitauctions.com/auction/washita-county-real-estate-auction-12/
ATTACH;FMTTYPE=image/jpeg:https://xitauctions.com/wp-content/uploads/2024/06/XIT-Auctions-Flyer-July-23-2024-4.jpg
END:VEVENT
BEGIN:VEVENT
DTSTART;VALUE=DATE:20240507
DTEND;VALUE=DATE:20240508
DTSTAMP:20260423T085810
CREATED:20240409T014444Z
LAST-MODIFIED:20240425T190542Z
UID:6222-1715040000-1715126399@xitauctions.com
SUMMARY:WASHITA COUNTY REAL ESTATE AUCTION
DESCRIPTION:AUCTION STARTS AT 1PM \n161 acres +/- – Surface and Wind\nLocated 4 miles East of Rocky on Hwy 55 to 2240 then 1/4 mile north. \nThe W/2 of the SW/4 of 10-8N-17W and The W/2 of the NW/4 of 15-8N-17W including a One Acre Parcel in the NW Corner of the SW/4 of 15-8N-17W. Containing (161 Acres +/-) AND Wind Tower WTG-B7 on the property. Annual Payment approx. $6\,536 (revised).\n \nHas water well and electricity. Buyer must do their own due diligence concerning the surface and wind rights. \nAuction will be conducted at the Sentinel Activity Center. Just East of Sentinel on Hwy 55.
URL:https://xitauctions.com/auction/washita-county-real-estate-auction-11/
CATEGORIES:Real Estate
ATTACH;FMTTYPE=image/jpeg:https://xitauctions.com/wp-content/uploads/2024/04/IMG_1783.jpg
END:VEVENT
BEGIN:VEVENT
DTSTART;VALUE=DATE:20240411
DTEND;VALUE=DATE:20240412
DTSTAMP:20260423T085810
CREATED:20240229T200219Z
LAST-MODIFIED:20240229T200537Z
UID:6085-1712793600-1712879999@xitauctions.com
SUMMARY:JACKSON COUNTY REAL ESTATE AUCTION
DESCRIPTION:AUCTION STARTS AT 1PM \nAuction will be conducted at the Eldorado Community Center- 515 West Main Eldorado\, OK\nSelling : SW/4 of Sec. 1- 1S-24W Jackson Co. Okla (160 acres +/-)\n(Court Case PB-2002-93) Sells Subject to and contingent upon approval and confirmation of the District Court in and for Custer Co. Okla.\nFarm Located From Eldorado: 1 North and 1 West- SW Corner of Property is\nIntersection of N1840 and E1740) Watch for Signs\nSelling Surface and Surface Rights only. All water rights and irrigation rights will transfer to the new owners as allowed by the State of Oklahoma. Property has Harmon County Rural Water Meter that will Transfer to new owners. Possession of growing wheat crop will be after harvest has been completed. Grass upon Closing.\nSELLERS: Jolene Crowder Estate
URL:https://xitauctions.com/auction/jackson-county-real-estate-auction/
CATEGORIES:Real Estate
ATTACH;FMTTYPE=image/jpeg:https://xitauctions.com/wp-content/uploads/2024/02/OK065_F3859.jpg
END:VEVENT
BEGIN:VEVENT
DTSTART;VALUE=DATE:20240406
DTEND;VALUE=DATE:20240407
DTSTAMP:20260423T085810
CREATED:20231129T175403Z
LAST-MODIFIED:20240325T002243Z
UID:5893-1712361600-1712447999@xitauctions.com
SUMMARY:KIOWA COUNTY FARMERS & RANCHERS
DESCRIPTION:Auction starts 10AM \nOn the Gin Yard in Lone Wolf\, OK
URL:https://xitauctions.com/auction/kiowa-county-farmers-ranchers/
CATEGORIES:Farm Equipment
ATTACH;FMTTYPE=image/jpeg:https://xitauctions.com/wp-content/uploads/2024/02/1.jpg
END:VEVENT
BEGIN:VEVENT
DTSTART;VALUE=DATE:20240403
DTEND;VALUE=DATE:20240404
DTSTAMP:20260423T085810
CREATED:20240214T140321Z
LAST-MODIFIED:20240329T000140Z
UID:6044-1712102400-1712188799@xitauctions.com
SUMMARY:GREER COUNTY REAL ESTATE AUCTION
DESCRIPTION:AUCTION STARTS AT 1PM \nAuction conducted at Willow Community Center. \n\n\n\n\n160 +/- \, Brick Home\, Barn- (Directly across from Willow Cemetery) \nSELLER: Smith Trust \n(Shown By Appointment only) \nLegal: E/2 NW/4 of 21-7-22 Greer Co. Okla and S/2 NE/4 of 21-7-22 Greer Co. Okla. (160 ac. +/-)
URL:https://xitauctions.com/auction/greer-county-real-estate-auction-7/
CATEGORIES:Real Estate
ATTACH;FMTTYPE=image/jpeg:https://xitauctions.com/wp-content/uploads/2024/02/IMG_1118-scaled.jpg
END:VEVENT
BEGIN:VEVENT
DTSTART;VALUE=DATE:20240323
DTEND;VALUE=DATE:20240324
DTSTAMP:20260423T085810
CREATED:20231129T175224Z
LAST-MODIFIED:20240323T132957Z
UID:5891-1711152000-1711238399@xitauctions.com
SUMMARY:FILLINGIM ESTATE AUCTION
DESCRIPTION:AUCTION STARTS AT 10AM \nElk City\, OK \nGUNS\, Collector Cars\, Collector Tractors\, 4 Trailer loads of Tools\, And Much More.
URL:https://xitauctions.com/auction/fillingim-estate-auction/
CATEGORIES:Farm Equipment
ATTACH;FMTTYPE=image/jpeg:https://xitauctions.com/wp-content/uploads/2024/02/aIMG_0900.jpg
END:VEVENT
END:VCALENDAR